BEGIN:VCALENDAR
VERSION:2.0
PRODID:-// - ECPv6.15.20//NONSGML v1.0//EN
CALSCALE:GREGORIAN
METHOD:PUBLISH
X-ORIGINAL-URL:https://pearlandfriendswood.aggiemoms.org
X-WR-CALDESC:Events for 
REFRESH-INTERVAL;VALUE=DURATION:PT1H
X-Robots-Tag:noindex
X-PUBLISHED-TTL:PT1H
BEGIN:VTIMEZONE
TZID:America/Chicago
BEGIN:DAYLIGHT
TZOFFSETFROM:-0600
TZOFFSETTO:-0500
TZNAME:CDT
DTSTART:20250309T080000
END:DAYLIGHT
BEGIN:STANDARD
TZOFFSETFROM:-0500
TZOFFSETTO:-0600
TZNAME:CST
DTSTART:20251102T070000
END:STANDARD
BEGIN:DAYLIGHT
TZOFFSETFROM:-0600
TZOFFSETTO:-0500
TZNAME:CDT
DTSTART:20260308T080000
END:DAYLIGHT
BEGIN:STANDARD
TZOFFSETFROM:-0500
TZOFFSETTO:-0600
TZNAME:CST
DTSTART:20261101T070000
END:STANDARD
BEGIN:DAYLIGHT
TZOFFSETFROM:-0600
TZOFFSETTO:-0500
TZNAME:CDT
DTSTART:20270314T080000
END:DAYLIGHT
BEGIN:STANDARD
TZOFFSETFROM:-0500
TZOFFSETTO:-0600
TZNAME:CST
DTSTART:20271107T070000
END:STANDARD
END:VTIMEZONE
BEGIN:VEVENT
DTSTART;TZID=America/Chicago:20260515T180000
DTEND;TZID=America/Chicago:20260515T200000
DTSTAMP:20260424T210325
CREATED:20250509T014422Z
LAST-MODIFIED:20260417T123400Z
UID:1269-1778868000-1778875200@pearlandfriendswood.aggiemoms.org
SUMMARY:Senior Recognition Night @ Floyd's
DESCRIPTION:Join us as we celebrate our Fall 2025 and Spring 2026 Graduates! Bring out the entire family!  As our Aggie moms celebrate their graduate\, they now are part of the Ring of Honor Aggie Moms!  Whoop! \n  \nSpecial thanks to Floyd’s for their continued support as we celebrate our Aggies! \n \n 
URL:https://pearlandfriendswood.aggiemoms.org/events/senior-recognition-night-floyds/
LOCATION:Floyd’s Cajun Seafood\, 1300 E. Broadway Street\, Pearland\, TX\, 77581\, United States
END:VEVENT
END:VCALENDAR